Package: OrderedList Version: 1.78.0 Command: /Library/Frameworks/R.framework/Resources/bin/R CMD check --install=check:OrderedList.install-out.txt --library=/Library/Frameworks/R.framework/Resources/library --no-vignettes --timings OrderedList_1.78.0.tar.gz StartedAt: 2025-02-05 04:35:37 -0500 (Wed, 05 Feb 2025) EndedAt: 2025-02-05 04:36:09 -0500 (Wed, 05 Feb 2025) EllapsedTime: 32.1 seconds RetCode: 0 Status: OK CheckDir: OrderedList.Rcheck Warnings: 0