Package: OrderedList Version: 1.78.0 Command: /Library/Frameworks/R.framework/Resources/bin/R CMD INSTALL OrderedList StartedAt: 2025-02-03 15:15:40 -0500 (Mon, 03 Feb 2025) EndedAt: 2025-02-03 15:16:07 -0500 (Mon, 03 Feb 2025) EllapsedTime: 26.8 seconds RetCode: 0 Status: OK