Package: OrderedList Version: 1.78.0 Command: /home/biocbuild/R/R/bin/R CMD INSTALL OrderedList StartedAt: 2025-02-03 20:24:27 -0000 (Mon, 03 Feb 2025) EndedAt: 2025-02-03 20:24:45 -0000 (Mon, 03 Feb 2025) EllapsedTime: 17.2 seconds RetCode: 0 Status: OK