Package: OrganismDbi Version: 1.48.0 Command: rm -rf OrganismDbi.buildbin-libdir && mkdir OrganismDbi.buildbin-libdir && /Users/biocbuild/BBS/utils/build-universal.sh OrganismDbi_1.48.0.tar.gz /Library/Frameworks/R.framework/Resources/bin/R OrganismDbi.buildbin-libdir StartedAt: 2025-02-05 17:02:44 -0500 (Wed, 05 Feb 2025) EndedAt: 2025-02-05 17:03:35 -0500 (Wed, 05 Feb 2025) EllapsedTime: 51.2 seconds RetCode: 0 Status: OK PackageFile: OrganismDbi_1.48.0.tgz PackageFileSize: 773.5 KiB