Package: OrganismDbi Version: 1.48.0 Command: /Library/Frameworks/R.framework/Resources/bin/R CMD build --keep-empty-dirs --no-resave-data OrganismDbi StartedAt: 2025-02-04 05:07:10 -0500 (Tue, 04 Feb 2025) EndedAt: 2025-02-04 05:08:57 -0500 (Tue, 04 Feb 2025) EllapsedTime: 106.9 seconds RetCode: 0 Status: OK PackageFile: OrganismDbi_1.48.0.tar.gz PackageFileSize: 387.3 KiB