Package: OrganismDbi Version: 1.48.0 Command: /Library/Frameworks/R.framework/Resources/bin/R CMD check --install=check:OrganismDbi.install-out.txt --library=/Library/Frameworks/R.framework/Resources/library --no-vignettes --timings OrganismDbi_1.48.0.tar.gz StartedAt: 2025-02-05 04:38:19 -0500 (Wed, 05 Feb 2025) EndedAt: 2025-02-05 04:49:31 -0500 (Wed, 05 Feb 2025) EllapsedTime: 672.4 seconds RetCode: 0 Status: OK CheckDir: OrganismDbi.Rcheck Warnings: 0