Package: OrganismDbi Version: 1.48.0 Command: /Library/Frameworks/R.framework/Resources/bin/R CMD INSTALL OrganismDbi StartedAt: 2025-02-03 16:21:43 -0500 (Mon, 03 Feb 2025) EndedAt: 2025-02-03 16:22:30 -0500 (Mon, 03 Feb 2025) EllapsedTime: 47.0 seconds RetCode: 0 Status: OK