Package: OrganismDbi
Version: 1.48.0
Command: /home/biocbuild/bbs-3.20-bioc/R/bin/R CMD check --install=check:OrganismDbi.install-out.txt --library=/home/biocbuild/bbs-3.20-bioc/R/site-library --timings OrganismDbi_1.48.0.tar.gz
StartedAt: 2025-02-18 00:38:51 -0500 (Tue, 18 Feb 2025)
EndedAt: 2025-02-18 00:51:01 -0500 (Tue, 18 Feb 2025)
EllapsedTime: 729.3 seconds
RetCode: 1
Status: ERROR
CheckDir: OrganismDbi.Rcheck
Warnings: NA