Package: OrganismDbi Version: 1.48.0 Command: rm -rf OrganismDbi.buildbin-libdir && mkdir OrganismDbi.buildbin-libdir && F:\biocbuild\bbs-3.20-bioc\R\bin\R.exe CMD INSTALL --build --library=OrganismDbi.buildbin-libdir OrganismDbi_1.48.0.tar.gz StartedAt: 2025-02-04 09:07:18 -0500 (Tue, 04 Feb 2025) EndedAt: 2025-02-04 09:09:10 -0500 (Tue, 04 Feb 2025) EllapsedTime: 111.7 seconds RetCode: 0 Status: OK PackageFile: OrganismDbi_1.48.0.zip PackageFileSize: 780.7 KiB