Package: OrganismDbi Version: 1.48.0 Command: chmod a+r OrganismDbi -R && F:\biocbuild\bbs-3.20-bioc\R\bin\R.exe CMD build --keep-empty-dirs --no-resave-data OrganismDbi StartedAt: 2025-02-03 20:58:22 -0500 (Mon, 03 Feb 2025) EndedAt: 2025-02-03 21:00:24 -0500 (Mon, 03 Feb 2025) EllapsedTime: 121.7 seconds RetCode: 0 Status: OK PackageFile: OrganismDbi_1.48.0.tar.gz PackageFileSize: 387.5 KiB