Package: OrganismDbi Version: 1.48.0 Command: /home/biocbuild/R/R/bin/R CMD build --keep-empty-dirs --no-resave-data OrganismDbi StartedAt: 2025-02-04 01:39:02 -0000 (Tue, 04 Feb 2025) EndedAt: 2025-02-04 01:40:44 -0000 (Tue, 04 Feb 2025) EllapsedTime: 102.1 seconds RetCode: 0 Status: OK PackageFile: OrganismDbi_1.48.0.tar.gz PackageFileSize: 410 KiB