Package: OrganismDbi Version: 1.48.0 Command: /home/biocbuild/R/R/bin/R CMD check --install=check:OrganismDbi.install-out.txt --library=/home/biocbuild/R/R/site-library --no-vignettes --timings OrganismDbi_1.48.0.tar.gz StartedAt: 2025-02-04 09:36:22 -0000 (Tue, 04 Feb 2025) EndedAt: 2025-02-04 09:48:42 -0000 (Tue, 04 Feb 2025) EllapsedTime: 740.3 seconds RetCode: 0 Status: OK CheckDir: OrganismDbi.Rcheck Warnings: 0