Package: OrganismDbi Version: 1.48.0 Command: /home/biocbuild/R/R/bin/R CMD INSTALL OrganismDbi StartedAt: 2025-02-03 20:51:20 -0000 (Mon, 03 Feb 2025) EndedAt: 2025-02-03 20:52:09 -0000 (Mon, 03 Feb 2025) EllapsedTime: 49.0 seconds RetCode: 0 Status: OK