Package: OrganismDbi
Version: 1.48.0
Command: /home/biocbuild/bbs-3.20-bioc/R/bin/R CMD build --keep-empty-dirs --no-resave-data OrganismDbi
StartedAt: 2024-11-19 20:39:35 -0500 (Tue, 19 Nov 2024)
EndedAt: 2024-11-19 20:41:02 -0500 (Tue, 19 Nov 2024)
EllapsedTime: 87.2 seconds
RetCode: 0
Status: OK
PackageFile: OrganismDbi_1.48.0.tar.gz
PackageFileSize: 387.3 <A href="http://en.wikipedia.org/wiki/KiB" target="_blank">KiB</A>