Package: Oscope Version: 1.36.0 Command: /Library/Frameworks/R.framework/Resources/bin/R CMD build --keep-empty-dirs --no-resave-data Oscope StartedAt: 2025-02-04 05:08:57 -0500 (Tue, 04 Feb 2025) EndedAt: 2025-02-04 05:11:06 -0500 (Tue, 04 Feb 2025) EllapsedTime: 128.8 seconds RetCode: 0 Status: OK PackageFile: Oscope_1.36.0.tar.gz PackageFileSize: 1.159 MiB