Package: Oscope Version: 1.36.0 Command: /Library/Frameworks/R.framework/Resources/bin/R CMD check --install=check:Oscope.install-out.txt --library=/Library/Frameworks/R.framework/Resources/library --no-vignettes --timings Oscope_1.36.0.tar.gz StartedAt: 2025-02-05 04:42:00 -0500 (Wed, 05 Feb 2025) EndedAt: 2025-02-05 04:43:23 -0500 (Wed, 05 Feb 2025) EllapsedTime: 82.8 seconds RetCode: 0 Status: OK CheckDir: Oscope.Rcheck Warnings: 0