Package: Oscope Version: 1.36.0 Command: /Library/Frameworks/R.framework/Resources/bin/R CMD INSTALL Oscope StartedAt: 2025-02-03 17:00:33 -0500 (Mon, 03 Feb 2025) EndedAt: 2025-02-03 17:00:41 -0500 (Mon, 03 Feb 2025) EllapsedTime: 8.5 seconds RetCode: 0 Status: OK