Package: Oscope
Version: 1.36.0
Command: /Library/Frameworks/R.framework/Resources/bin/R CMD build --keep-empty-dirs --no-resave-data Oscope
StartedAt: 2024-11-19 17:59:21 -0500 (Tue, 19 Nov 2024)
EndedAt: 2024-11-19 18:04:01 -0500 (Tue, 19 Nov 2024)
EllapsedTime: 280.1 seconds
RetCode: 0
Status: OK
PackageFile: Oscope_1.36.0.tar.gz
PackageFileSize: 1.16 <A href="http://en.wikipedia.org/wiki/MiB" target="_blank">MiB</A>