Package: Oscope Version: 1.36.0 Command: /Library/Frameworks/R.framework/Resources/bin/R CMD check --install=check:Oscope.install-out.txt --library=/Library/Frameworks/R.framework/Resources/library --no-vignettes --timings Oscope_1.36.0.tar.gz StartedAt: 2025-02-18 07:03:42 -0500 (Tue, 18 Feb 2025) EndedAt: 2025-02-18 07:06:32 -0500 (Tue, 18 Feb 2025) EllapsedTime: 169.8 seconds RetCode: 0 Status: OK CheckDir: Oscope.Rcheck Warnings: 0