Package: Oscope Version: 1.36.0 Command: /home/biocbuild/bbs-3.20-bioc/R/bin/R CMD build --keep-empty-dirs --no-resave-data --md5 Oscope StartedAt: 2025-02-03 18:36:32 -0500 (Mon, 03 Feb 2025) EndedAt: 2025-02-03 18:39:38 -0500 (Mon, 03 Feb 2025) EllapsedTime: 185.3 seconds RetCode: 0 Status: OK PackageFile: Oscope_1.36.0.tar.gz PackageFileSize: 1.161 MiB