Package: Oscope Version: 1.36.0 Command: /home/biocbuild/bbs-3.20-bioc/R/bin/R CMD INSTALL Oscope StartedAt: 2025-02-03 15:48:14 -0500 (Mon, 03 Feb 2025) EndedAt: 2025-02-03 15:48:22 -0500 (Mon, 03 Feb 2025) EllapsedTime: 8.1 seconds RetCode: 0 Status: OK