Package: Oscope Version: 1.36.0 Command: rm -rf Oscope.buildbin-libdir && mkdir Oscope.buildbin-libdir && F:\biocbuild\bbs-3.20-bioc\R\bin\R.exe CMD INSTALL --build --library=Oscope.buildbin-libdir Oscope_1.36.0.tar.gz StartedAt: 2025-02-04 09:07:41 -0500 (Tue, 04 Feb 2025) EndedAt: 2025-02-04 09:07:56 -0500 (Tue, 04 Feb 2025) EllapsedTime: 15.4 seconds RetCode: 0 Status: OK PackageFile: Oscope_1.36.0.zip PackageFileSize: 855.4 KiB