Package: Oscope Version: 1.36.0 Command: chmod a+r Oscope -R && F:\biocbuild\bbs-3.20-bioc\R\bin\R.exe CMD build --keep-empty-dirs --no-resave-data Oscope StartedAt: 2025-02-03 21:00:26 -0500 (Mon, 03 Feb 2025) EndedAt: 2025-02-03 21:02:15 -0500 (Mon, 03 Feb 2025) EllapsedTime: 109.6 seconds RetCode: 0 Status: OK PackageFile: Oscope_1.36.0.tar.gz PackageFileSize: 1.162 MiB