Package: Oscope Version: 1.36.0 Command: F:\biocbuild\bbs-3.20-bioc\R\bin\R.exe CMD check --no-multiarch --install=check:Oscope.install-out.txt --library=F:\biocbuild\bbs-3.20-bioc\R\library --no-vignettes --timings Oscope_1.36.0.tar.gz StartedAt: 2025-02-04 04:39:17 -0500 (Tue, 04 Feb 2025) EndedAt: 2025-02-04 04:40:50 -0500 (Tue, 04 Feb 2025) EllapsedTime: 93.0 seconds RetCode: 0 Status: OK CheckDir: Oscope.Rcheck Warnings: 0