Package: Oscope Version: 1.36.0 Command: F:\biocbuild\bbs-3.20-bioc\R\bin\R.exe CMD INSTALL Oscope StartedAt: 2025-02-03 16:08:54 -0500 (Mon, 03 Feb 2025) EndedAt: 2025-02-03 16:09:10 -0500 (Mon, 03 Feb 2025) EllapsedTime: 16.1 seconds RetCode: 0 Status: OK