Package: Oscope Version: 1.36.0 Command: /home/biocbuild/bbs-3.20-bioc/R/bin/R CMD check --install=check:Oscope.install-out.txt --library=/home/biocbuild/bbs-3.20-bioc/R/site-library --timings Oscope_1.36.0.tar.gz StartedAt: 2024-11-20 07:03:20 -0500 (Wed, 20 Nov 2024) EndedAt: 2024-11-20 07:06:09 -0500 (Wed, 20 Nov 2024) EllapsedTime: 168.9 seconds RetCode: 0 Status: OK CheckDir: Oscope.Rcheck Warnings: 0