Package: PAA Version: 1.40.0 Command: /Library/Frameworks/R.framework/Resources/bin/R CMD INSTALL PAA StartedAt: 2025-02-03 17:31:29 -0500 (Mon, 03 Feb 2025) EndedAt: 2025-02-03 17:32:10 -0500 (Mon, 03 Feb 2025) EllapsedTime: 40.6 seconds RetCode: 0 Status: OK