Package: PAA Version: 1.40.0 Command: /Library/Frameworks/R.framework/Resources/bin/R CMD build --keep-empty-dirs --no-resave-data PAA StartedAt: 2025-02-03 21:04:38 -0500 (Mon, 03 Feb 2025) EndedAt: 2025-02-03 21:11:24 -0500 (Mon, 03 Feb 2025) EllapsedTime: 406.2 seconds RetCode: 0 Status: OK PackageFile: PAA_1.40.0.tar.gz PackageFileSize: 3.743 MiB