Package: PAA Version: 1.40.0 Command: /home/biocbuild/bbs-3.20-bioc/R/bin/R CMD build --keep-empty-dirs --no-resave-data --md5 PAA StartedAt: 2025-02-03 18:37:25 -0500 (Mon, 03 Feb 2025) EndedAt: 2025-02-03 18:40:36 -0500 (Mon, 03 Feb 2025) EllapsedTime: 190.4 seconds RetCode: 0 Status: OK PackageFile: PAA_1.40.0.tar.gz PackageFileSize: 4.141 MiB