Package: PAA Version: 1.40.0 Command: /home/biocbuild/bbs-3.20-bioc/R/bin/R CMD INSTALL PAA StartedAt: 2025-02-03 15:56:49 -0500 (Mon, 03 Feb 2025) EndedAt: 2025-02-03 15:57:32 -0500 (Mon, 03 Feb 2025) EllapsedTime: 42.3 seconds RetCode: 0 Status: OK