Package: PAA Version: 1.40.0 Command: rm -rf PAA.buildbin-libdir && mkdir PAA.buildbin-libdir && F:\biocbuild\bbs-3.20-bioc\R\bin\R.exe CMD INSTALL --build --library=PAA.buildbin-libdir PAA_1.40.0.tar.gz StartedAt: 2025-02-04 09:07:52 -0500 (Tue, 04 Feb 2025) EndedAt: 2025-02-04 09:08:54 -0500 (Tue, 04 Feb 2025) EllapsedTime: 62.1 seconds RetCode: 0 Status: OK PackageFile: PAA_1.40.0.zip PackageFileSize: 3.387 MiB