Package: PAA Version: 1.40.0 Command: /home/biocbuild/R/R/bin/R CMD check --install=check:PAA.install-out.txt --library=/home/biocbuild/R/R/site-library --no-vignettes --timings PAA_1.40.0.tar.gz StartedAt: 2025-02-04 09:38:07 -0000 (Tue, 04 Feb 2025) EndedAt: 2025-02-04 09:43:02 -0000 (Tue, 04 Feb 2025) EllapsedTime: 295.4 seconds RetCode: 0 Status: OK CheckDir: PAA.Rcheck Warnings: 0