Package: PAIRADISE Version: 1.22.0 Command: rm -rf PAIRADISE.buildbin-libdir && mkdir PAIRADISE.buildbin-libdir && /Users/biocbuild/BBS/utils/build-universal.sh PAIRADISE_1.22.0.tar.gz /Library/Frameworks/R.framework/Resources/bin/R PAIRADISE.buildbin-libdir StartedAt: 2025-02-05 17:04:06 -0500 (Wed, 05 Feb 2025) EndedAt: 2025-02-05 17:04:34 -0500 (Wed, 05 Feb 2025) EllapsedTime: 27.4 seconds RetCode: 0 Status: OK PackageFile: PAIRADISE_1.22.0.tgz PackageFileSize: 382.4 KiB