Package: PAIRADISE Version: 1.22.0 Command: /Library/Frameworks/R.framework/Resources/bin/R CMD check --install=check:PAIRADISE.install-out.txt --library=/Library/Frameworks/R.framework/Resources/library --no-vignettes --timings PAIRADISE_1.22.0.tar.gz StartedAt: 2025-02-05 04:52:52 -0500 (Wed, 05 Feb 2025) EndedAt: 2025-02-05 04:55:46 -0500 (Wed, 05 Feb 2025) EllapsedTime: 174.4 seconds RetCode: 0 Status: OK CheckDir: PAIRADISE.Rcheck Warnings: 0