Package: PAIRADISE Version: 1.22.0 Command: rm -rf PAIRADISE.buildbin-libdir && mkdir PAIRADISE.buildbin-libdir && F:\biocbuild\bbs-3.20-bioc\R\bin\R.exe CMD INSTALL --build --library=PAIRADISE.buildbin-libdir PAIRADISE_1.22.0.tar.gz StartedAt: 2025-02-04 09:08:03 -0500 (Tue, 04 Feb 2025) EndedAt: 2025-02-04 09:08:36 -0500 (Tue, 04 Feb 2025) EllapsedTime: 33.1 seconds RetCode: 0 Status: OK PackageFile: PAIRADISE_1.22.0.zip PackageFileSize: 384.4 KiB