Package: PAIRADISE Version: 1.22.0 Command: F:\biocbuild\bbs-3.20-bioc\R\bin\R.exe CMD INSTALL PAIRADISE StartedAt: 2025-02-03 16:18:21 -0500 (Mon, 03 Feb 2025) EndedAt: 2025-02-03 16:18:51 -0500 (Mon, 03 Feb 2025) EllapsedTime: 30.6 seconds RetCode: 0 Status: OK