Package: PAIRADISE Version: 1.22.0 Command: /home/biocbuild/R/R/bin/R CMD INSTALL PAIRADISE StartedAt: 2025-02-03 20:35:32 -0000 (Mon, 03 Feb 2025) EndedAt: 2025-02-03 20:35:57 -0000 (Mon, 03 Feb 2025) EllapsedTime: 25.1 seconds RetCode: 0 Status: OK