Package: PANR Version: 1.52.0 Command: rm -rf PANR.buildbin-libdir && mkdir PANR.buildbin-libdir && /Users/biocbuild/BBS/utils/build-universal.sh PANR_1.52.0.tar.gz /Library/Frameworks/R.framework/Resources/bin/R PANR.buildbin-libdir StartedAt: 2025-02-04 13:44:14 -0500 (Tue, 04 Feb 2025) EndedAt: 2025-02-04 13:44:50 -0500 (Tue, 04 Feb 2025) EllapsedTime: 35.4 seconds RetCode: 0 Status: OK PackageFile: PANR_1.52.0.tgz PackageFileSize: 2.132 MiB