Package: PANR Version: 1.52.0 Command: /Library/Frameworks/R.framework/Resources/bin/R CMD build --keep-empty-dirs --no-resave-data PANR StartedAt: 2025-02-03 21:08:53 -0500 (Mon, 03 Feb 2025) EndedAt: 2025-02-03 21:09:56 -0500 (Mon, 03 Feb 2025) EllapsedTime: 63.1 seconds RetCode: 0 Status: OK PackageFile: PANR_1.52.0.tar.gz PackageFileSize: 2.113 MiB