Package: PANR Version: 1.52.0 Command: /home/biocbuild/R/R/bin/R CMD build --keep-empty-dirs --no-resave-data PANR StartedAt: 2025-02-04 01:44:49 -0000 (Tue, 04 Feb 2025) EndedAt: 2025-02-04 01:45:09 -0000 (Tue, 04 Feb 2025) EllapsedTime: 20.1 seconds RetCode: 0 Status: OK PackageFile: PANR_1.52.0.tar.gz PackageFileSize: 2.097 MiB