Package: PAST Version: 1.22.0 Command: /Library/Frameworks/R.framework/Resources/bin/R CMD check --install=check:PAST.install-out.txt --library=/Library/Frameworks/R.framework/Resources/library --no-vignettes --timings PAST_1.22.0.tar.gz StartedAt: 2024-11-09 09:23:32 -0500 (Sat, 09 Nov 2024) EndedAt: 2024-11-09 09:29:37 -0500 (Sat, 09 Nov 2024) EllapsedTime: 365.5 seconds RetCode: 0 Status: WARNINGS CheckDir: PAST.Rcheck Warnings: 2