Package: PAST Version: 1.22.0 Command: /home/biocbuild/bbs-3.20-bioc/R/bin/R CMD build --keep-empty-dirs --no-resave-data --md5 PAST StartedAt: 2025-02-03 18:40:19 -0500 (Mon, 03 Feb 2025) EndedAt: 2025-02-03 18:42:40 -0500 (Mon, 03 Feb 2025) EllapsedTime: 141.2 seconds RetCode: 0 Status: OK PackageFile: PAST_1.22.0.tar.gz PackageFileSize: 954.8 KiB