Package: PAST Version: 1.22.0 Command: /home/biocbuild/bbs-3.20-bioc/R/bin/R CMD check --install=check:PAST.install-out.txt --library=/home/biocbuild/bbs-3.20-bioc/R/site-library --timings PAST_1.22.0.tar.gz StartedAt: 2025-02-04 01:04:56 -0500 (Tue, 04 Feb 2025) EndedAt: 2025-02-04 01:14:46 -0500 (Tue, 04 Feb 2025) EllapsedTime: 589.8 seconds RetCode: 0 Status: WARNINGS CheckDir: PAST.Rcheck Warnings: 2