Package: PAST Version: 1.22.0 Command: /home/biocbuild/bbs-3.20-bioc/R/bin/R CMD INSTALL PAST StartedAt: 2025-02-03 15:30:12 -0500 (Mon, 03 Feb 2025) EndedAt: 2025-02-03 15:30:42 -0500 (Mon, 03 Feb 2025) EllapsedTime: 30.7 seconds RetCode: 0 Status: OK