Package: PAST Version: 1.22.0 Command: rm -rf PAST.buildbin-libdir && mkdir PAST.buildbin-libdir && F:\biocbuild\bbs-3.20-bioc\R\bin\R.exe CMD INSTALL --build --library=PAST.buildbin-libdir PAST_1.22.0.tar.gz StartedAt: 2025-02-04 09:08:47 -0500 (Tue, 04 Feb 2025) EndedAt: 2025-02-04 09:09:24 -0500 (Tue, 04 Feb 2025) EllapsedTime: 37.1 seconds RetCode: 0 Status: OK PackageFile: PAST_1.22.0.zip PackageFileSize: 1013 KiB