Package: PAST Version: 1.22.0 Command: chmod a+r PAST -R && F:\biocbuild\bbs-3.20-bioc\R\bin\R.exe CMD build --keep-empty-dirs --no-resave-data PAST StartedAt: 2025-02-03 21:05:45 -0500 (Mon, 03 Feb 2025) EndedAt: 2025-02-03 21:07:57 -0500 (Mon, 03 Feb 2025) EllapsedTime: 132.5 seconds RetCode: 0 Status: OK PackageFile: PAST_1.22.0.tar.gz PackageFileSize: 954.3 KiB