Package: PAST Version: 1.22.0 Command: F:\biocbuild\bbs-3.20-bioc\R\bin\R.exe CMD INSTALL PAST StartedAt: 2025-02-03 16:29:11 -0500 (Mon, 03 Feb 2025) EndedAt: 2025-02-03 16:29:49 -0500 (Mon, 03 Feb 2025) EllapsedTime: 38.3 seconds RetCode: 0 Status: OK