Package: PCAN Version: 1.34.0 Command: /Library/Frameworks/R.framework/Resources/bin/R CMD check --install=check:PCAN.install-out.txt --library=/Library/Frameworks/R.framework/Resources/library --no-vignettes --timings PCAN_1.34.0.tar.gz StartedAt: 2025-02-05 05:04:37 -0500 (Wed, 05 Feb 2025) EndedAt: 2025-02-05 05:08:49 -0500 (Wed, 05 Feb 2025) EllapsedTime: 251.8 seconds RetCode: 0 Status: OK CheckDir: PCAN.Rcheck Warnings: 0