Package: PCAN Version: 1.34.0 Command: /home/biocbuild/bbs-3.20-bioc/R/bin/R CMD build --keep-empty-dirs --no-resave-data --md5 PCAN StartedAt: 2025-02-03 18:41:38 -0500 (Mon, 03 Feb 2025) EndedAt: 2025-02-03 18:42:27 -0500 (Mon, 03 Feb 2025) EllapsedTime: 49.0 seconds RetCode: 0 Status: OK PackageFile: PCAN_1.34.0.tar.gz PackageFileSize: 2.59 MiB