Package: PCAN Version: 1.34.0 Command: /home/biocbuild/bbs-3.20-bioc/R/bin/R CMD check --install=check:PCAN.install-out.txt --library=/home/biocbuild/bbs-3.20-bioc/R/site-library --timings PCAN_1.34.0.tar.gz StartedAt: 2025-02-04 01:06:28 -0500 (Tue, 04 Feb 2025) EndedAt: 2025-02-04 01:10:21 -0500 (Tue, 04 Feb 2025) EllapsedTime: 232.2 seconds RetCode: 0 Status: OK CheckDir: PCAN.Rcheck Warnings: 0